BEGIN:VCALENDAR
BEGIN:VEVENT
SUMMARY:Festive opening EIT Digital satellite co-location at CWI
DTSTART:20171102T113000Z
DTEND:20171102T163000Z
UID:e6843a4d-1153-499c-949f-ac5ce4e351e1
DESCRIPTION:On November 2nd\, EIT Digital and Centrum Wiskunde & Informati
 e (CWI)\, the national research institute for mathematics and computer sci
 ence in the Netherlands\, will launch the new Satellite Co-Location Centre
  of EIT Digital The Netherlands.\n\nLocation:\nTuringroom at Congress Cent
 re Amsterdam Science Park
LOCATION:Turingroom at Congress Centre Amsterdam Science Park
END:VEVENT
END:VCALENDAR
