BEGIN:VCALENDAR
BEGIN:VEVENT
SUMMARY:Scientific meeting on remote verifiable computation
DTSTART:20230217T120000Z
DTEND:20230217T130000Z
UID:40c37da8-a12b-4b6f-b106-e404df20289a
DESCRIPTION:In this 2 in 1 presentation\, we introduce the Computer Securi
 ty group (CSY).\n\nLocation:\nL016
LOCATION:L016
END:VEVENT
END:VCALENDAR
