BEGIN:VCALENDAR
BEGIN:VEVENT
SUMMARY:Scientific Meeting Friday 17 June
DTSTART:20220617T110000Z
DTEND:20220617T120000Z
UID:ea65da87-250c-4a13-a245-16e3099cf59d
DESCRIPTION:Wouter Edeling (Scientific Computing)\, Lisa Kohl (Cryptology)
 \n\nContact:\nJannis Teunissen\, Felix Lucka\njannis.teunissen@cwi.nl\n\nL
 ocation:\nEuler room
LOCATION:Euler room
END:VEVENT
END:VCALENDAR
