BEGIN:VCALENDAR
BEGIN:VEVENT
SUMMARY:Scientific Meeting Friday 30 September
DTSTART:20220930T110000Z
DTEND:20220930T120000Z
UID:2860fe5e-acce-4a93-b951-48e469535bd5
DESCRIPTION:Dennis Bouwman (MD)\, "Pen\, paper and lightning"\; Muriel Per
 ez (ML)\, "Optimal\, any time valid testing under group invariance"\; Andr
 ei Nesterov (HCDA)\, "How crowdsourcing and domain expertise help uncover 
 cultural controversies in data"\n\nContact:\nJannis Teunissen\, Felix Luck
 a\njannis.teunissen@cwi.nl\n\nLocation:\nEuler room
LOCATION:Euler room
END:VEVENT
END:VCALENDAR
