BEGIN:VCALENDAR
BEGIN:VEVENT
SUMMARY:Talk by Darius Blasband\, CEO of Raincode
DTSTART:20160527T110000Z
DTEND:20160527T120000Z
UID:b91718b6-fc84-4937-88ef-65535ff29d3a
DESCRIPTION:Everybody is invited to attend the PEM talk by Darius Blasban
 d\, CEO of Raincode(www.raincode.com) where he will present his book "The 
 Rise and Fallof Software Recipes". Abstract:Software recipes are meant to 
 implement transitive intellig\n\nLocation:\nRoom L017\, CWI\, Science Park
  123\, Amsterdam
LOCATION:Room L017\, CWI\, Science Park 123\, Amsterdam
END:VEVENT
END:VCALENDAR
