BEGIN:VCALENDAR
BEGIN:VEVENT
SUMMARY:INFORMS Revenue Management and Pricing Conference 2017
DTSTART:20170629T050000Z
DTEND:20170630T140000Z
UID:c378211e-7c39-46c8-b8dc-51d14fb9d856
DESCRIPTION:Early announcement. We cordially invite you to register for th
 e 2017 INFORMS Revenue Management and Pricing Section Conference\; the pr
 emier forum for both academics and practitioners who are active in researc
 h in the fields of pricing analytics and revenue management. Registration 
 and abstract submission (also for the practical talks) opens in January 20
 17\, please look at&n\n\nLocation:\nTuring room CWI
LOCATION:Turing room CWI
END:VEVENT
END:VCALENDAR
