BEGIN:VCALENDAR
BEGIN:VEVENT
SUMMARY:The Dutch national Symposium of Software Engineering (SEN)
DTSTART:20160121T070000Z
DTEND:20160121T153000Z
UID:47c0648f-8546-4f99-afd9-39b25a5c65ec
DESCRIPTION:You are cordially invited to attend the second national sympos
 ium on software engineering (SEN) at CWI\, Amsterdam Thia second Dutch na
 tional symposium on software engineering (SEN) will be held on Thursday\, 
 January 21st\, 2016.\n\nLocation:\nWCW Colloquiumzalen\, Science Park 125\
 , Amsterdam
LOCATION:WCW Colloquiumzalen\, Science Park 125\, Amsterdam
END:VEVENT
END:VCALENDAR
